BEGIN:VCALENDAR
VERSION:2.0
PRODID:-//FNCTA Union Sud-Est//NONSGML kigkonsult.se iCalcreator 2.30.10//
CALSCALE:GREGORIAN
METHOD:PUBLISH
UID:6c3c9162-1b0c-44d8-a5e7-3660be258b70
X-WR-CALNAME:iCagenda
X-WR-CALDESC:Event Management Extension for Joomla!
X-WR-RELCALID:3E26604A-50F4-4449-8B3E-E4F4932D05B5
X-WR-TIMEZONE:Europe/Paris
BEGIN:VTIMEZONE
TZID:Europe/Paris
BEGIN:STANDARD
TZNAME:CET
DTSTART:20251026T030000
TZOFFSETFROM:+0200
TZOFFSETTO:+0100
RDATE:20261025T030000
RDATE:20271031T030000
END:STANDARD
BEGIN:DAYLIGHT
TZNAME:CEST
DTSTART:20260329T020000
TZOFFSETFROM:+0100
TZOFFSETTO:+0200
RDATE:20270328T020000
END:DAYLIGHT
END:VTIMEZONE
BEGIN:VEVENT
UID:0de2dc34-3fcd-4f1a-9921-f1a51420caab
DTSTAMP:20260424T080932Z
CATEGORIES:06-Alpes Maritimes-Monaco
CLASS:PUBLIC
DESCRIPTION:
DTSTART:20260919T190000Z
DTEND:20260919T190000Z
GEO:00;0
LOCATION:CAGNES SUR MER - CENTRE CULTUREL
ORGANIZER;CN=:graindescene@hotmail.fr
SEQUENCE:1
SUMMARY:ET LA DÉMOCRATIE\, BORDEL !
TRANSP:OPAQUE
URL:https://fnctasudest.fr/nos-evenements/representation-theatre-paca/715-e
 t-la-democratie-bordel-38/2026-09-19-21-00
END:VEVENT
END:VCALENDAR
