BEGIN:VCALENDAR
VERSION:2.0
PRODID:-//FNCTA Union Sud-Est//NONSGML kigkonsult.se iCalcreator 2.30.10//
CALSCALE:GREGORIAN
METHOD:PUBLISH
UID:a1031aa2-6a4f-42b5-a2a9-eb5ffd62bd40
X-WR-CALNAME:iCagenda
X-WR-CALDESC:Event Management Extension for Joomla!
X-WR-RELCALID:3E26604A-50F4-4449-8B3E-E4F4932D05B5
X-WR-TIMEZONE:Europe/Paris
BEGIN:VTIMEZONE
TZID:Europe/Paris
BEGIN:STANDARD
TZNAME:CET
DTSTART:20251026T030000
TZOFFSETFROM:+0200
TZOFFSETTO:+0100
RDATE:20261025T030000
RDATE:20271031T030000
END:STANDARD
BEGIN:DAYLIGHT
TZNAME:CEST
DTSTART:20260329T020000
TZOFFSETFROM:+0100
TZOFFSETTO:+0200
RDATE:20270328T020000
END:DAYLIGHT
END:VTIMEZONE
BEGIN:VEVENT
UID:bded0978-a3ee-4414-9bbb-61e037294654
DTSTAMP:20260424T081653Z
CATEGORIES:13-Bouches du Rhône
CLASS:PUBLIC
DESCRIPTION:
DTSTART:20260606T040600Z
DTEND:20260607T050600Z
GEO:00;0
LOCATION:Salle Marcel Pagnol à La Roques d'Anthéron
ORGANIZER;CN=:fnctacd13@gmail.com
SEQUENCE:1
SUMMARY:Appel à candidature - Jeunes et l'air de rien
TRANSP:OPAQUE
URL:https://fnctasudest.fr/nos-evenements/representation-theatre-paca/725-a
 ppel-a-candidature-27eme-festival-national-de-theatre-amateur-marseille-20
 26
END:VEVENT
END:VCALENDAR
