BEGIN:VCALENDAR
VERSION:2.0
PRODID:-//FNCTA Union Sud-Est//NONSGML kigkonsult.se iCalcreator 2.30.10//
CALSCALE:GREGORIAN
METHOD:PUBLISH
UID:3e8decff-d02c-456c-91a3-d3ce7033aa6e
X-WR-CALNAME:iCagenda
X-WR-CALDESC:Event Management Extension for Joomla!
X-WR-RELCALID:3E26604A-50F4-4449-8B3E-E4F4932D05B5
X-WR-TIMEZONE:Europe/Paris
BEGIN:VTIMEZONE
TZID:Europe/Paris
BEGIN:STANDARD
TZNAME:CET
DTSTART:20251026T030000
TZOFFSETFROM:+0200
TZOFFSETTO:+0100
RDATE:20261025T030000
RDATE:20271031T030000
END:STANDARD
BEGIN:DAYLIGHT
TZNAME:CEST
DTSTART:20260329T020000
TZOFFSETFROM:+0100
TZOFFSETTO:+0200
RDATE:20270328T020000
END:DAYLIGHT
END:VTIMEZONE
BEGIN:VEVENT
UID:f3900780-2838-45fd-b737-bc907c0911a6
DTSTAMP:20260424T093948Z
CATEGORIES:13-Bouches du Rhône
CLASS:PUBLIC
DESCRIPTION:
DTSTART:20260603T220000Z
DTEND:20260605T220000Z
GEO:00;0
LOCATION:Salle des Arts et de la Culture\, Sausset-les-Pins
ORGANIZER;CN=:contact@theatredecouverte.com
SEQUENCE:1
SUMMARY:24eme Sauss'Estival - appel à candidature
TRANSP:OPAQUE
URL:https://fnctasudest.fr/nos-evenements/representation-theatre-paca/792-2
 4eme-saussestival-appel-a-candidature
END:VEVENT
END:VCALENDAR
