BEGIN:VCALENDAR
VERSION:2.0
PRODID:-//FNCTA Union Sud-Est//NONSGML kigkonsult.se iCalcreator 2.30.10//
CALSCALE:GREGORIAN
METHOD:PUBLISH
UID:5d112ad1-7d0e-4f85-b2f4-f1e50ecfc140
X-WR-CALNAME:iCagenda
X-WR-CALDESC:Event Management Extension for Joomla!
X-WR-RELCALID:3E26604A-50F4-4449-8B3E-E4F4932D05B5
X-WR-TIMEZONE:Europe/Paris
BEGIN:VTIMEZONE
TZID:Europe/Paris
BEGIN:STANDARD
TZNAME:CET
DTSTART:20251026T030000
TZOFFSETFROM:+0200
TZOFFSETTO:+0100
RDATE:20261025T030000
END:STANDARD
BEGIN:DAYLIGHT
TZNAME:CEST
DTSTART:20260329T020000
TZOFFSETFROM:+0100
TZOFFSETTO:+0200
RDATE:20270328T020000
END:DAYLIGHT
END:VTIMEZONE
BEGIN:VEVENT
UID:9158ea02-ab8f-474e-84d9-29d6ad58bc64
DTSTAMP:20260422T111049Z
CATEGORIES:83-Var
CLASS:PUBLIC
DESCRIPTION:
DTSTART:20260421T183000Z
DTEND:20260421T183000Z
GEO:00;0
LOCATION:LA MOTTE - SALLE LOUIS FOURNAIRE
ORGANIZER;CN=:graindescene@hotmail.fr
SEQUENCE:1
SUMMARY:L'ORIGINE DU MONDE
TRANSP:OPAQUE
URL:https://fnctasudest.fr/nos-evenements/representation-theatre-paca/798-l
 origine-du-monde-8/2026-04-21-20-30
END:VEVENT
END:VCALENDAR
