BEGIN:VCALENDAR
VERSION:2.0
PRODID:-//FNCTA Union Sud-Est//NONSGML kigkonsult.se iCalcreator 2.30.10//
CALSCALE:GREGORIAN
METHOD:PUBLISH
UID:37f32650-ea6c-4e34-8057-18b317594c03
X-WR-CALNAME:iCagenda
X-WR-CALDESC:Event Management Extension for Joomla!
X-WR-RELCALID:3E26604A-50F4-4449-8B3E-E4F4932D05B5
X-WR-TIMEZONE:Europe/Paris
BEGIN:VTIMEZONE
TZID:Europe/Paris
BEGIN:STANDARD
TZNAME:CET
DTSTART:20251026T030000
TZOFFSETFROM:+0200
TZOFFSETTO:+0100
RDATE:20261025T030000
RDATE:20271031T030000
END:STANDARD
BEGIN:DAYLIGHT
TZNAME:CEST
DTSTART:20260329T020000
TZOFFSETFROM:+0100
TZOFFSETTO:+0200
RDATE:20270328T020000
END:DAYLIGHT
END:VTIMEZONE
BEGIN:VEVENT
UID:1a4bab56-0768-4ecc-ba17-1d43fd2f87f4
DTSTAMP:20260422T111049Z
CATEGORIES:06-Alpes Maritimes-Monaco
CLASS:PUBLIC
DESCRIPTION:
DTSTART:20260508T183000Z
DTEND:20260508T183000Z
GEO:00;0
LOCATION:SAINT-MARTIN DU VAR - SALLE DES FÊTES
ORGANIZER;CN=:graindescene@hotmail.fr
SEQUENCE:1
SUMMARY:L'ORIGINE DU MONDE
TRANSP:OPAQUE
URL:https://fnctasudest.fr/nos-evenements/representation-theatre-paca/837-l
 origine-du-monde-12/2026-05-08-20-30
END:VEVENT
END:VCALENDAR
