BEGIN:VCALENDAR
VERSION:2.0
PRODID:-//FNCTA Union Sud-Est//NONSGML kigkonsult.se iCalcreator 2.30.10//
CALSCALE:GREGORIAN
METHOD:PUBLISH
UID:9165ae5d-7b6d-430c-b71e-9e4ce563b44b
X-WR-CALNAME:iCagenda
X-WR-CALDESC:Event Management Extension for Joomla!
X-WR-RELCALID:3E26604A-50F4-4449-8B3E-E4F4932D05B5
X-WR-TIMEZONE:Europe/Paris
BEGIN:VTIMEZONE
TZID:Europe/Paris
BEGIN:STANDARD
TZNAME:CET
DTSTART:20251026T030000
TZOFFSETFROM:+0200
TZOFFSETTO:+0100
RDATE:20261025T030000
RDATE:20271031T030000
END:STANDARD
BEGIN:DAYLIGHT
TZNAME:CEST
DTSTART:20260329T020000
TZOFFSETFROM:+0100
TZOFFSETTO:+0200
RDATE:20270328T020000
END:DAYLIGHT
END:VTIMEZONE
BEGIN:VEVENT
UID:8d400bc9-4fc9-4435-90d2-6e3ed9fc9082
DTSTAMP:20260424T094224Z
CATEGORIES:83-Var
CLASS:PUBLIC
DESCRIPTION:
DTSTART:20260624T183000Z
DTEND:20260624T183000Z
GEO:00;0
LOCATION:Théâtre DAUDET\, 208 Avenue Maréchal de Lattre de Tassigny\, 83140
  Six-Fours-les-Plages
ORGANIZER;CN=:theatregodille@gmail.com
SEQUENCE:1
SUMMARY:Les Héritiers
TRANSP:OPAQUE
URL:https://fnctasudest.fr/nos-evenements/representation-theatre-paca/858-l
 es-heritiers/2026-06-24-20-30
END:VEVENT
END:VCALENDAR
