BEGIN:VCALENDAR
VERSION:2.0
PRODID:-//FNCTA Union Sud-Est//NONSGML kigkonsult.se iCalcreator 2.30.10//
CALSCALE:GREGORIAN
METHOD:PUBLISH
UID:b17579d6-9928-4e20-b92a-62f6e92eb16f
X-WR-CALNAME:iCagenda
X-WR-CALDESC:Event Management Extension for Joomla!
X-WR-RELCALID:3E26604A-50F4-4449-8B3E-E4F4932D05B5
X-WR-TIMEZONE:Europe/Paris
BEGIN:VTIMEZONE
TZID:Europe/Paris
BEGIN:STANDARD
TZNAME:CET
DTSTART:20251026T030000
TZOFFSETFROM:+0200
TZOFFSETTO:+0100
RDATE:20261025T030000
END:STANDARD
BEGIN:DAYLIGHT
TZNAME:CEST
DTSTART:20260329T020000
TZOFFSETFROM:+0100
TZOFFSETTO:+0200
RDATE:20270328T020000
END:DAYLIGHT
END:VTIMEZONE
BEGIN:VEVENT
UID:04430d45-bd2a-4198-bdca-2546900ddb67
DTSTAMP:20260422T111058Z
CATEGORIES:83-Var
CLASS:PUBLIC
DESCRIPTION:
DTSTART:20260425T183000Z
DTEND:20260425T183000Z
GEO:00;0
LOCATION:Saint-Raphaël - salle Félix Martin - Rencontres Théâtrales
ORGANIZER;CN=:contact@lesdingosdagay.fr
SEQUENCE:1
SUMMARY:La Maîtresse de Mon Fils
TRANSP:OPAQUE
URL:https://fnctasudest.fr/nos-evenements/representation-theatre-paca/861-l
 a-maitresse-de-mon-fils/2026-04-25-20-30
END:VEVENT
END:VCALENDAR
