BEGIN:VCALENDAR
VERSION:2.0
PRODID:-//FNCTA Union Sud-Est//NONSGML kigkonsult.se iCalcreator 2.30.10//
CALSCALE:GREGORIAN
METHOD:PUBLISH
UID:f7c27ee4-5a36-4511-82d7-1bef4fd86c2f
X-WR-CALNAME:iCagenda
X-WR-CALDESC:Event Management Extension for Joomla!
X-WR-RELCALID:3E26604A-50F4-4449-8B3E-E4F4932D05B5
X-WR-TIMEZONE:Europe/Paris
BEGIN:VTIMEZONE
TZID:Europe/Paris
BEGIN:STANDARD
TZNAME:CET
DTSTART:20251026T030000
TZOFFSETFROM:+0200
TZOFFSETTO:+0100
RDATE:20261025T030000
RDATE:20271031T030000
END:STANDARD
BEGIN:DAYLIGHT
TZNAME:CEST
DTSTART:20260329T020000
TZOFFSETFROM:+0100
TZOFFSETTO:+0200
RDATE:20270328T020000
END:DAYLIGHT
END:VTIMEZONE
BEGIN:VEVENT
UID:29a1e77b-2db7-428d-b83e-79657071b622
DTSTAMP:20260424T081806Z
CATEGORIES:06-Alpes Maritimes-Monaco
CLASS:PUBLIC
DESCRIPTION:
DTSTART:20260628T151500Z
DTEND:20260628T151600Z
GEO:00;0
LOCATION:espaces mimont Cannes
ORGANIZER;CN=:francoise.ollivier9@gmail.com
SEQUENCE:1
SUMMARY:Les puissantes
TRANSP:OPAQUE
URL:https://fnctasudest.fr/nos-evenements/representation-theatre-paca/865-l
 es-puissantes
END:VEVENT
END:VCALENDAR
