BEGIN:VCALENDAR
VERSION:2.0
PRODID:-//FNCTA Union Sud-Est//NONSGML kigkonsult.se iCalcreator 2.30.10//
CALSCALE:GREGORIAN
METHOD:PUBLISH
UID:6d264772-716f-4106-8863-9837f50d64a9
X-WR-CALNAME:iCagenda
X-WR-CALDESC:Event Management Extension for Joomla!
X-WR-RELCALID:3E26604A-50F4-4449-8B3E-E4F4932D05B5
X-WR-TIMEZONE:Europe/Paris
BEGIN:VTIMEZONE
TZID:Europe/Paris
BEGIN:STANDARD
TZNAME:CET
DTSTART:20251026T030000
TZOFFSETFROM:+0200
TZOFFSETTO:+0100
RDATE:20261025T030000
RDATE:20271031T030000
END:STANDARD
BEGIN:DAYLIGHT
TZNAME:CEST
DTSTART:20260329T020000
TZOFFSETFROM:+0100
TZOFFSETTO:+0200
RDATE:20270328T020000
END:DAYLIGHT
END:VTIMEZONE
BEGIN:VEVENT
UID:40e01a14-0962-4e3b-a111-0b50e759eeb6
DTSTAMP:20260424T081023Z
CATEGORIES:06-Alpes Maritimes-Monaco
CLASS:PUBLIC
DESCRIPTION:
DTSTART:20260518T105500Z
DTEND:20260522T105500Z
GEO:00;0
LOCATION:théâtre de la tour AnimaNice Gorbella Nice
ORGANIZER;CN=:francoise.ollivier9@gmail.com
SEQUENCE:1
SUMMARY:Festival art et handicap 'au fil de l'autre' 2026
TRANSP:OPAQUE
URL:https://fnctasudest.fr/nos-evenements/representation-theatre-paca/882-f
 estival-art-et-handicap-au-fil-de-lautre-2026
END:VEVENT
END:VCALENDAR
