BEGIN:VCALENDAR
VERSION:2.0
PRODID:-//FNCTA Union Sud-Est//NONSGML kigkonsult.se iCalcreator 2.30.10//
CALSCALE:GREGORIAN
METHOD:PUBLISH
UID:9ea62055-a809-4e3f-a6e9-d8bd99baaf68
X-WR-CALNAME:iCagenda
X-WR-CALDESC:Event Management Extension for Joomla!
X-WR-RELCALID:3E26604A-50F4-4449-8B3E-E4F4932D05B5
X-WR-TIMEZONE:Europe/Paris
BEGIN:VTIMEZONE
TZID:Europe/Paris
BEGIN:STANDARD
TZNAME:CET
DTSTART:20251026T030000
TZOFFSETFROM:+0200
TZOFFSETTO:+0100
RDATE:20261025T030000
RDATE:20271031T030000
END:STANDARD
BEGIN:DAYLIGHT
TZNAME:CEST
DTSTART:20260329T020000
TZOFFSETFROM:+0100
TZOFFSETTO:+0200
RDATE:20270328T020000
END:DAYLIGHT
END:VTIMEZONE
BEGIN:VEVENT
UID:c69bbd9d-10c6-42a6-a7cd-04126146cde9
DTSTAMP:20260424T082151Z
CATEGORIES:13-Bouches du Rhône
CLASS:PUBLIC
DESCRIPTION:
DTSTART:20260529T220000Z
DTEND:20260529T220000Z
GEO:00;0
LOCATION:Salle Jacques Prévert. Place du 8 Mai 1945. 13500 MARTGUES
ORGANIZER;CN=:atelier20.21@gmail.com
SEQUENCE:1
SUMMARY:Inscriptions  Rencontres de Théâtre Amateur de Martigues
TRANSP:OPAQUE
URL:https://fnctasudest.fr/nos-evenements/representation-theatre-paca/886-i
 nscriptions-rencontres-de-theatre-amateur-de-martigues/2026-05-30-00-00
END:VEVENT
END:VCALENDAR
