BEGIN:VCALENDAR
VERSION:2.0
PRODID:-//FNCTA Union Sud-Est//NONSGML kigkonsult.se iCalcreator 2.30.10//
CALSCALE:GREGORIAN
METHOD:PUBLISH
UID:568155de-cb09-45db-ad05-7d763f3af725
X-WR-CALNAME:iCagenda
X-WR-CALDESC:Event Management Extension for Joomla!
X-WR-RELCALID:3E26604A-50F4-4449-8B3E-E4F4932D05B5
X-WR-TIMEZONE:Europe/Paris
BEGIN:VTIMEZONE
TZID:Europe/Paris
BEGIN:STANDARD
TZNAME:CET
DTSTART:20251026T030000
TZOFFSETFROM:+0200
TZOFFSETTO:+0100
RDATE:20261025T030000
RDATE:20271031T030000
END:STANDARD
BEGIN:DAYLIGHT
TZNAME:CEST
DTSTART:20260329T020000
TZOFFSETFROM:+0100
TZOFFSETTO:+0200
RDATE:20270328T020000
RDATE:20280326T020000
END:DAYLIGHT
END:VTIMEZONE
BEGIN:VEVENT
UID:2acc4733-b00f-41dd-8163-bd2dfb33f46c
DTSTAMP:20260424T081723Z
CATEGORIES:13-Bouches du Rhône
CLASS:PUBLIC
DESCRIPTION:
DTSTART:20261001T220000Z
DTEND:20261003T220000Z
GEO:00;0
LOCATION:Saint-Cannat 13760
ORGANIZER;CN=:festivactes.programmation@gmail.com
SEQUENCE:1
SUMMARY:FESTIV'ACTES 10
TRANSP:OPAQUE
URL:https://fnctasudest.fr/nos-evenements/representation-theatre-paca/887-f
 estivactes-10
END:VEVENT
END:VCALENDAR
