BEGIN:VCALENDAR
VERSION:2.0
PRODID:-//FNCTA Union Sud-Est//NONSGML kigkonsult.se iCalcreator 2.30.10//
CALSCALE:GREGORIAN
METHOD:PUBLISH
UID:289a1ef6-1b9c-44be-9bc5-cd7de78f0aa8
X-WR-CALNAME:iCagenda
X-WR-CALDESC:Event Management Extension for Joomla!
X-WR-RELCALID:3E26604A-50F4-4449-8B3E-E4F4932D05B5
X-WR-TIMEZONE:Europe/Paris
BEGIN:VTIMEZONE
TZID:Europe/Paris
BEGIN:STANDARD
TZNAME:CET
DTSTART:20251026T030000
TZOFFSETFROM:+0200
TZOFFSETTO:+0100
RDATE:20261025T030000
RDATE:20271031T030000
END:STANDARD
BEGIN:DAYLIGHT
TZNAME:CEST
DTSTART:20260329T020000
TZOFFSETFROM:+0100
TZOFFSETTO:+0200
RDATE:20270328T020000
END:DAYLIGHT
END:VTIMEZONE
BEGIN:VEVENT
UID:8bd77c40-c714-4005-9caa-b9e1d2b1ee91
DTSTAMP:20260424T082412Z
CATEGORIES:04-Alpes de Haute-Provence
CLASS:PUBLIC
DESCRIPTION:
DTSTART:20260522T183000Z
DTEND:20260522T183000Z
GEO:00;0
LOCATION:Théatre Henri Fluchère Avenue de la Libération 04220 Sainte Tulle
ORGANIZER;CN=:brenner-michel@orange.fr
SEQUENCE:1
SUMMARY:Madame
TRANSP:OPAQUE
URL:https://fnctasudest.fr/nos-evenements/representation-theatre-paca/895-m
 adame-2/2026-05-22-20-30
END:VEVENT
END:VCALENDAR
