BEGIN:VCALENDAR
VERSION:2.0
PRODID:-//FNCTA Union Sud-Est//NONSGML kigkonsult.se iCalcreator 2.30.10//
CALSCALE:GREGORIAN
METHOD:PUBLISH
UID:f432912f-66aa-48a5-bd59-ba0a3e7fd140
X-WR-CALNAME:iCagenda
X-WR-CALDESC:Event Management Extension for Joomla!
X-WR-RELCALID:3E26604A-50F4-4449-8B3E-E4F4932D05B5
X-WR-TIMEZONE:Europe/Paris
BEGIN:VTIMEZONE
TZID:Europe/Paris
BEGIN:STANDARD
TZNAME:CET
DTSTART:20251026T030000
TZOFFSETFROM:+0200
TZOFFSETTO:+0100
RDATE:20261025T030000
END:STANDARD
BEGIN:DAYLIGHT
TZNAME:CEST
DTSTART:20260329T020000
TZOFFSETFROM:+0100
TZOFFSETTO:+0200
RDATE:20270328T020000
END:DAYLIGHT
END:VTIMEZONE
BEGIN:VEVENT
UID:abeb1c09-a385-439b-9d9f-2efb67d83f7b
DTSTAMP:20260422T110457Z
CATEGORIES:83-Var
CLASS:PUBLIC
DESCRIPTION:
DTSTART:20260425T164500Z
DTEND:20260425T164500Z
GEO:00;0
LOCATION:LORGUES - SALLE FRANÇOIS MITTERAND
ORGANIZER;CN=:graindescene@hotmail.fr
SEQUENCE:1
SUMMARY:ET LA DÉMOCRATIE\, BORDEL !
TRANSP:OPAQUE
URL:https://fnctasudest.fr/nos-evenements/representation-theatre-paca/897-e
 t-la-democratie-bordel-3/2026-04-25-18-45
END:VEVENT
END:VCALENDAR
