BEGIN:VCALENDAR
VERSION:2.0
PRODID:-//FNCTA Union Sud-Est//NONSGML kigkonsult.se iCalcreator 2.30.10//
CALSCALE:GREGORIAN
METHOD:PUBLISH
UID:703948db-66d8-4d49-8a85-3fbe26d48c66
X-WR-CALNAME:iCagenda
X-WR-CALDESC:Event Management Extension for Joomla!
X-WR-RELCALID:3E26604A-50F4-4449-8B3E-E4F4932D05B5
X-WR-TIMEZONE:Europe/Paris
BEGIN:VTIMEZONE
TZID:Europe/Paris
BEGIN:STANDARD
TZNAME:CET
DTSTART:20251026T030000
TZOFFSETFROM:+0200
TZOFFSETTO:+0100
RDATE:20261025T030000
RDATE:20271031T030000
END:STANDARD
BEGIN:DAYLIGHT
TZNAME:CEST
DTSTART:20260329T020000
TZOFFSETFROM:+0100
TZOFFSETTO:+0200
RDATE:20270328T020000
END:DAYLIGHT
END:VTIMEZONE
BEGIN:VEVENT
UID:0928a86d-02b0-40a8-948c-a05ca9d84d75
DTSTAMP:20260424T080844Z
CATEGORIES:83-Var
CLASS:PUBLIC
DESCRIPTION:
DTSTART:20260807T190000Z
DTEND:20260807T190000Z
GEO:00;0
LOCATION:FORT BALAGUIER - FESTIVAL DU CHAPEAU
ORGANIZER;CN=:graindescene@hotmail.fr
SEQUENCE:1
SUMMARY:ET LA DÉMOCRATIE\, BORDEL !
TRANSP:OPAQUE
URL:https://fnctasudest.fr/nos-evenements/representation-theatre-paca/899-e
 t-la-democratie-bordel-4/2026-08-07-21-00
END:VEVENT
END:VCALENDAR
