BEGIN:VCALENDAR
VERSION:2.0
PRODID:-//FNCTA Union Sud-Est//NONSGML kigkonsult.se iCalcreator 2.30.10//
CALSCALE:GREGORIAN
METHOD:PUBLISH
UID:3fdc7037-ea98-4b61-8851-76cfa926ff05
X-WR-CALNAME:iCagenda
X-WR-CALDESC:Event Management Extension for Joomla!
X-WR-RELCALID:3E26604A-50F4-4449-8B3E-E4F4932D05B5
X-WR-TIMEZONE:Europe/Paris
BEGIN:VTIMEZONE
TZID:Europe/Paris
BEGIN:STANDARD
TZNAME:CET
DTSTART:20261025T030000
TZOFFSETFROM:+0200
TZOFFSETTO:+0100
RDATE:20271031T030000
END:STANDARD
BEGIN:DAYLIGHT
TZNAME:CEST
DTSTART:20260329T020000
TZOFFSETFROM:+0100
TZOFFSETTO:+0200
RDATE:20270328T020000
RDATE:20280326T020000
END:DAYLIGHT
END:VTIMEZONE
BEGIN:VEVENT
UID:082b755f-0804-45cb-b182-4019668bc6e2
DTSTAMP:20260424T082010Z
CATEGORIES:06-Alpes Maritimes-Monaco
CLASS:PUBLIC
DESCRIPTION:
DTSTART:20270117T150000Z
DTEND:20270117T150000Z
GEO:00;0
LOCATION:VENCE - THÉÂTRE DE L'AVANT-SCÈNE
ORGANIZER;CN=:graindescene@hotmail.fr
SEQUENCE:1
SUMMARY:L'ORIGINE DU MONDE
TRANSP:OPAQUE
URL:https://fnctasudest.fr/nos-evenements/representation-theatre-paca/901-l
 origine-du-monde-18/2027-01-17-16-00
END:VEVENT
END:VCALENDAR
