BEGIN:VCALENDAR
VERSION:2.0
PRODID:-//FNCTA Union Sud-Est//NONSGML kigkonsult.se iCalcreator 2.30.10//
CALSCALE:GREGORIAN
METHOD:PUBLISH
UID:5191105b-1277-4645-b0f9-22ecea24881b
X-WR-CALNAME:iCagenda
X-WR-CALDESC:Event Management Extension for Joomla!
X-WR-RELCALID:3E26604A-50F4-4449-8B3E-E4F4932D05B5
X-WR-TIMEZONE:Europe/Paris
BEGIN:VTIMEZONE
TZID:Europe/Paris
BEGIN:STANDARD
TZNAME:CET
DTSTART:20251026T030000
TZOFFSETFROM:+0200
TZOFFSETTO:+0100
RDATE:20261025T030000
RDATE:20271031T030000
END:STANDARD
BEGIN:DAYLIGHT
TZNAME:CEST
DTSTART:20260329T020000
TZOFFSETFROM:+0100
TZOFFSETTO:+0200
RDATE:20270328T020000
END:DAYLIGHT
END:VTIMEZONE
BEGIN:VEVENT
UID:fda10c41-2ea1-4d4c-bed0-62d09cd2432e
DTSTAMP:20260422T110437Z
CATEGORIES:13-Bouches du Rhône
CLASS:PUBLIC
DESCRIPTION:
DTSTART:20260503T160000Z
DTEND:20260503T160000Z
GEO:00;0
LOCATION:Salle Sévigné - 13410 LAMBESC
ORGANIZER;CN=:lezensoleilles@gmail.com
SEQUENCE:1
SUMMARY:Les printemps de Zilka
TRANSP:OPAQUE
URL:https://fnctasudest.fr/nos-evenements/representation-theatre-paca/902-l
 es-printemps-de-zilka/2026-05-03-18-00
END:VEVENT
END:VCALENDAR
