BEGIN:VCALENDAR
VERSION:2.0
PRODID:-//FNCTA Union Sud-Est//NONSGML kigkonsult.se iCalcreator 2.30.10//
CALSCALE:GREGORIAN
METHOD:PUBLISH
UID:1b0a836a-513e-4943-9d61-8aa1159bb6f9
X-WR-CALNAME:iCagenda
X-WR-CALDESC:Event Management Extension for Joomla!
X-WR-RELCALID:3E26604A-50F4-4449-8B3E-E4F4932D05B5
X-WR-TIMEZONE:Europe/Paris
BEGIN:VTIMEZONE
TZID:Europe/Paris
BEGIN:STANDARD
TZNAME:CET
DTSTART:20251026T030000
TZOFFSETFROM:+0200
TZOFFSETTO:+0100
RDATE:20261025T030000
END:STANDARD
BEGIN:DAYLIGHT
TZNAME:CEST
DTSTART:20260329T020000
TZOFFSETFROM:+0100
TZOFFSETTO:+0200
RDATE:20270328T020000
END:DAYLIGHT
END:VTIMEZONE
BEGIN:VEVENT
UID:179a8f9e-7dd3-4685-939f-49fb96c966a6
DTSTAMP:20260422T110453Z
CATEGORIES:83-Var
CLASS:PUBLIC
DESCRIPTION:
DTSTART:20260402T092000Z
DTEND:20260629T220000Z
GEO:00;0
LOCATION:Puget  sur Argens
ORGANIZER;CN=:festivaltheatre.puget@orange.fr
SEQUENCE:1
SUMMARY:Candidatures Festival Puget sur Argens
TRANSP:OPAQUE
URL:https://fnctasudest.fr/nos-evenements/representation-theatre-paca/906-c
 andidatures-festival-puget-sur-argens
END:VEVENT
END:VCALENDAR
