BEGIN:VCALENDAR
VERSION:2.0
PRODID:-//FNCTA Union Sud-Est//NONSGML kigkonsult.se iCalcreator 2.30.10//
CALSCALE:GREGORIAN
METHOD:PUBLISH
UID:28055723-9f67-44e5-ac9e-2ce480267c69
X-WR-CALNAME:iCagenda
X-WR-CALDESC:Event Management Extension for Joomla!
X-WR-RELCALID:3E26604A-50F4-4449-8B3E-E4F4932D05B5
X-WR-TIMEZONE:Europe/Paris
BEGIN:VTIMEZONE
TZID:Europe/Paris
BEGIN:STANDARD
TZNAME:CET
DTSTART:20251026T030000
TZOFFSETFROM:+0200
TZOFFSETTO:+0100
RDATE:20261025T030000
END:STANDARD
BEGIN:DAYLIGHT
TZNAME:CEST
DTSTART:20260329T020000
TZOFFSETFROM:+0100
TZOFFSETTO:+0200
RDATE:20270328T020000
END:DAYLIGHT
END:VTIMEZONE
BEGIN:VEVENT
UID:78442efd-b93b-4ee8-a49c-5034bab867a4
DTSTAMP:20260422T100332Z
CATEGORIES:83-Var
CLASS:PUBLIC
DESCRIPTION:
DTSTART:20260426T153000Z
DTEND:20260426T153000Z
GEO:00;0
LOCATION:Salle Frédéric Mistral (Hôtel de Ville) - Avenue Angelin German 83
 780 Flayosc
ORGANIZER;CN=:lesfileursdorties@gmail.com
SEQUENCE:1
SUMMARY:MAMIE LUGER
TRANSP:OPAQUE
URL:https://fnctasudest.fr/nos-evenements/representation-theatre-paca/914-m
 amie-luger-9/2026-04-26-17-30
END:VEVENT
END:VCALENDAR
