BEGIN:VCALENDAR
VERSION:2.0
PRODID:-//FNCTA Union Sud-Est//NONSGML kigkonsult.se iCalcreator 2.30.10//
CALSCALE:GREGORIAN
METHOD:PUBLISH
UID:4d9b04e1-a495-4029-b065-933555db975b
X-WR-CALNAME:iCagenda
X-WR-CALDESC:Event Management Extension for Joomla!
X-WR-RELCALID:3E26604A-50F4-4449-8B3E-E4F4932D05B5
X-WR-TIMEZONE:Europe/Paris
BEGIN:VTIMEZONE
TZID:Europe/Paris
BEGIN:STANDARD
TZNAME:CET
DTSTART:20251026T030000
TZOFFSETFROM:+0200
TZOFFSETTO:+0100
RDATE:20261025T030000
RDATE:20271031T030000
END:STANDARD
BEGIN:DAYLIGHT
TZNAME:CEST
DTSTART:20260329T020000
TZOFFSETFROM:+0100
TZOFFSETTO:+0200
RDATE:20270328T020000
END:DAYLIGHT
END:VTIMEZONE
BEGIN:VEVENT
UID:a6ffa328-7409-428e-bd50-2e1ddfea281c
DTSTAMP:20260422T110457Z
CATEGORIES:04-Alpes de Haute-Provence
CLASS:PUBLIC
DESCRIPTION:
DTSTART:20260516T150000Z
DTEND:20260516T150000Z
GEO:00;0
LOCATION:Salle Gilbert Sauvan - Rue de la Mairie - 04120 Peyroules
ORGANIZER;CN=:lesfileursdorties@gmail.com
SEQUENCE:1
SUMMARY:MAMIE LUGER
TRANSP:OPAQUE
URL:https://fnctasudest.fr/nos-evenements/representation-theatre-paca/915-m
 amie-luger-10/2026-05-16-17-00
END:VEVENT
END:VCALENDAR
