BEGIN:VCALENDAR
VERSION:2.0
PRODID:-//FNCTA Union Sud-Est//NONSGML kigkonsult.se iCalcreator 2.30.10//
CALSCALE:GREGORIAN
METHOD:PUBLISH
UID:33ea2f1b-161b-493b-b17c-ca2fe9c73410
X-WR-CALNAME:iCagenda
X-WR-CALDESC:Event Management Extension for Joomla!
X-WR-RELCALID:3E26604A-50F4-4449-8B3E-E4F4932D05B5
X-WR-TIMEZONE:Europe/Paris
BEGIN:VTIMEZONE
TZID:Europe/Paris
BEGIN:STANDARD
TZNAME:CET
DTSTART:20251026T030000
TZOFFSETFROM:+0200
TZOFFSETTO:+0100
RDATE:20261025T030000
RDATE:20271031T030000
END:STANDARD
BEGIN:DAYLIGHT
TZNAME:CEST
DTSTART:20260329T020000
TZOFFSETFROM:+0100
TZOFFSETTO:+0200
RDATE:20270328T020000
END:DAYLIGHT
END:VTIMEZONE
BEGIN:VEVENT
UID:441ed4df-2a39-4b12-81fb-c7bc06a4d34b
DTSTAMP:20260424T082054Z
CATEGORIES:13-Bouches du Rhône
CLASS:PUBLIC
DESCRIPTION:
DTSTART:20260523T173000Z
DTEND:20260523T173000Z
GEO:00;0
LOCATION:Festival Les Rocatines - Espace sportif et culturel Marcel Pagnol 
 - Avenue de l'Europe Unie - 13640 La Roque d'Anthéron
ORGANIZER;CN=:lesfileursdorties@gmail.com
SEQUENCE:1
SUMMARY:MAMIE LUGER
TRANSP:OPAQUE
URL:https://fnctasudest.fr/nos-evenements/representation-theatre-paca/917-m
 amie-luger-12/2026-05-23-19-30
END:VEVENT
END:VCALENDAR
