BEGIN:VCALENDAR
VERSION:2.0
PRODID:-//FNCTA Union Sud-Est//NONSGML kigkonsult.se iCalcreator 2.30.10//
CALSCALE:GREGORIAN
METHOD:PUBLISH
UID:03c4c621-a96c-4062-909d-5cdcf1c54629
X-WR-CALNAME:iCagenda
X-WR-CALDESC:Event Management Extension for Joomla!
X-WR-RELCALID:3E26604A-50F4-4449-8B3E-E4F4932D05B5
X-WR-TIMEZONE:Europe/Paris
BEGIN:VTIMEZONE
TZID:Europe/Paris
BEGIN:STANDARD
TZNAME:CET
DTSTART:20251026T030000
TZOFFSETFROM:+0200
TZOFFSETTO:+0100
RDATE:20261025T030000
RDATE:20271031T030000
END:STANDARD
BEGIN:DAYLIGHT
TZNAME:CEST
DTSTART:20260329T020000
TZOFFSETFROM:+0100
TZOFFSETTO:+0200
RDATE:20270328T020000
END:DAYLIGHT
END:VTIMEZONE
BEGIN:VEVENT
UID:26559c5d-148e-4a44-b7f6-c4636ef3c805
DTSTAMP:20260424T082454Z
CATEGORIES:06-Alpes Maritimes-Monaco
CLASS:PUBLIC
DESCRIPTION:
DTSTART:20260523T160000Z
DTEND:20260523T171500Z
GEO:00;0
LOCATION:Collongues
ORGANIZER;CN=:troupeetvoila@gmail.com
SEQUENCE:1
SUMMARY:ON A BIEN ABANDONNE KIKI
TRANSP:OPAQUE
URL:https://fnctasudest.fr/nos-evenements/representation-theatre-paca/925-o
 n-a-bien-abandonne-kiki-3
END:VEVENT
END:VCALENDAR
